BEGIN:VCALENDAR
VERSION:2.0
PRODID:-//ACE Cycles - ECPv5.3.2//NONSGML v1.0//EN
CALSCALE:GREGORIAN
METHOD:PUBLISH
X-WR-CALNAME:ACE Cycles
X-ORIGINAL-URL:https://acecycles.co.za
X-WR-CALDESC:Events for ACE Cycles
BEGIN:VTIMEZONE
TZID:UTC
BEGIN:STANDARD
TZOFFSETFROM:+0000
TZOFFSETTO:+0000
TZNAME:UTC
DTSTART:20190101T000000
END:STANDARD
END:VTIMEZONE
BEGIN:VEVENT
DTSTART;TZID=UTC:20191214T043000
DTEND;TZID=UTC:20191214T120000
DTSTAMP:20260422T115358
CREATED:20191203T043431Z
LAST-MODIFIED:20191206T035524Z
UID:441-1576297800-1576324800@acecycles.co.za
SUMMARY:December 100 Miler Road
DESCRIPTION:  \nJoin us for a December fun ride and tick that 100 miler off your to-do list for 2019 \nStart at 05h00 from Cedar Lakes Estate \nPace +-25km/h \nFinish back at Cedar Lakes at around 11h30 \nPizza and beers at the clubhouse afterwards\, invite the whole family \nThe ride is unsupported and riders take part at their own risk
URL:https://acecycles.co.za/event/december-100-miler-road/
LOCATION:Cedar Lakes Estate\, Cedar Lakes Estate\, South Africa
ORGANIZER;CN="Ace%20Cycles":MAILTO:info@acecycles.co.za
END:VEVENT
END:VCALENDAR